BEGIN:VCALENDAR
VERSION:2.0
PRODID:-//SWDTP - ECPv6.15.16.1//NONSGML v1.0//EN
CALSCALE:GREGORIAN
METHOD:PUBLISH
X-ORIGINAL-URL:https://www.swdtp.ac.uk
X-WR-CALDESC:Events for SWDTP
REFRESH-INTERVAL;VALUE=DURATION:PT1H
X-Robots-Tag:noindex
X-PUBLISHED-TTL:PT1H
BEGIN:VTIMEZONE
TZID:Europe/London
BEGIN:DAYLIGHT
TZOFFSETFROM:+0000
TZOFFSETTO:+0100
TZNAME:BST
DTSTART:20250330T010000
END:DAYLIGHT
BEGIN:STANDARD
TZOFFSETFROM:+0100
TZOFFSETTO:+0000
TZNAME:GMT
DTSTART:20251026T010000
END:STANDARD
BEGIN:DAYLIGHT
TZOFFSETFROM:+0000
TZOFFSETTO:+0100
TZNAME:BST
DTSTART:20260329T010000
END:DAYLIGHT
BEGIN:STANDARD
TZOFFSETFROM:+0100
TZOFFSETTO:+0000
TZNAME:GMT
DTSTART:20261025T010000
END:STANDARD
BEGIN:DAYLIGHT
TZOFFSETFROM:+0000
TZOFFSETTO:+0100
TZNAME:BST
DTSTART:20270328T010000
END:DAYLIGHT
BEGIN:STANDARD
TZOFFSETFROM:+0100
TZOFFSETTO:+0000
TZNAME:GMT
DTSTART:20271031T010000
END:STANDARD
END:VTIMEZONE
BEGIN:VEVENT
DTSTART;TZID=Europe/London:20260113T091500
DTEND;TZID=Europe/London:20260115T160000
DTSTAMP:20260421T230253
CREATED:20250930T125839Z
LAST-MODIFIED:20250930T125839Z
UID:10000550-1768295700-1768492800@www.swdtp.ac.uk
SUMMARY:Introduction to Multilevel Modelling Using MLwiN\, R\, or Stata
DESCRIPTION:Run in partnership with NCRM\n\nPlease note this event is not run by the SWDTP. Please direct enquiries to Lucy Haslam at the University of Bristol Centre for Multilevel Modelling: lucy.haslam@bristol.ac.uk\nPlease note the closing date for applications is 23rd November 2025\n \nGo to booking form >>\n\nInstructors\nProfessor George Leckie and Professor William Browne\n \nSummary\nThis three-day course provides an introduction to multilevel modelling and includes software practicals in your choice of software: MLwiN\, R\, or Stata. We focus on multilevel modelling for continuous and binary responses (dependent or outcome variables) when the data are clustered (nested or hierarchical). These models can be viewed as an extension of conventional linear and logistic regression models to account for and learn from the clustering in the data. Such models are appropriate when\, for example\, analysing exam scores of students nested within schools\, or health outcomes of patients nested within hospitals. Special interest lies in disentangling social processes operating at different levels of analysis by decomposing the within- from the between-cluster effects of covariates (explanatory or predictor variables). Longitudinal data are also clustered\, with repeated measurements on individuals or multiple panel waves per survey respondent. Throughout the course we emphasize how to interpret multilevel models and the types of research question they can be used to explore.\n\nTestimonials\n\n“The course was really excellent – clearly structured and in a logical order. Speakers were fantastic.”\n\n“The course was excellent – far exceeded expectations. The course has given me the confidence to use MLM\, something I very much lacked before. I feel I understand the theory behind MLM\, why each stage is so important\, and the various interpretations. Without this course I would be lost. I cannot thank you all enough.”\n\n“This was a beautifully constructed course. It was clear throughout that careful thought had been given to providing a balance between lecture content\, time for questions and discussion\, and practical sessions. Both George and Bill delivered fantastic lectures – explanations were clear and thorough (including critiques of each approach) and content built up in complexity over time with plenty of worked examples of different kinds. The course was superb – can’t rate it highly enough.”\n\n“I thought it was a really good double act between George and Bill – they are both hugely knowledgeable so having one person focused on the slides and the other manning the chat was a good approach as it meant the teaching didn’t get derailed by people’s questions.”\n\n“Both George and Bill have excellent presentation styles. I really liked that they ‘riffed’ off of each other with gentle humour.”\n\nTopics\n\nOverview of multilevel modelling\nVariance-components models\nRandom-intercept models with covariates\nBetween- and within-effects of level-1 covariates\nRandom-coefficient models\nGrowth-curve models\nThree-level models\nReview of single-level logistic regression\nTwo-level logistic regression\n\n\nFormat\nThe course will consist of a 2:1 mix of lectures and hands-on practical sessions applying the taught methods to real datasets. The instructors alternate the lecturing. The lectures are software independent. Each lecture is immediately followed by a software practical giving participants the chance to replicate the presented analyses and to consolidate their knowledge. The practicals are offered in participants’ choice of MLwiN\, R\, or Stata and are self-directed: participants complete the practicals at their own pace. At the end of each practical session the instructors demo the different software. In both the lectures and practicals\, participants have opportunities to interact with the instructors.\n\nZoom\nThe course will be delivered online via the freely accessible Zoom platform. The lectures will be delivered live. Participants can ask questions via Zoom’s text-based chat facility and these will be monitored and answered by the instructor not presenting or relayed to the instructor presenting to answer live.\n\nParticipants are encouraged to join the lectures live\, but recordings of the lectures will be made available shortly afterwards for twelve weeks following the course if participants are unable to attend at the scheduled time. After twelve weeks\, video access will end and will not be extended.\n\nDuring the practicals\, participants can also speak with the instructors. Participants can use these opportunities to ask specific questions about the course material or about multilevel modelling related to their own research. Each software package will be demonstrated in a different breakout room.\n\nMaterials\nParticipants will be emailed in advance with comprehensive PDF copies of the lecture slides together with point-and-click instructions and datasets for MLwiN\, and annotated syntax files and datasets for R and Stata. During the practicals\, participants are encouraged to view the lecture slides on a second screen (or tablet etc.)\, else print copies out to have in front of them. Those choosing to use MLwiN may also want to view the point-and-click instructions on a second screen\, else print them out.\n\nSoftware\nFor those choosing to use MLwiN\, we will provide instructions as to how to download and install the free teaching version of this software. For those wishing to use R or Stata we assume you are already users of these software so have them installed.\n\nPre-requisites\nWe assume no prior knowledge of multilevel modelling. However\, participants should be familiar with estimating and interpreting linear regression models\, including the writing and interpretation of model equations\, hypothesis testing and model selection\, and the use and interpretation of dummy variables and interaction terms.\n\nWe will email in advance a pre-recorded lecture\, to be completed at the participant’s leisure\, which provides a review of linear regression accompanied with software instructions and datasets to replicate the analyses in MLwiN\, R\, and Stata.\n\nFor those choosing to use MLwiN\, we assume no prior knowledge of using this software and so we provide step-by-step instructions to allow you to replicate all presented analyses in MLwiN. For those choosing R or Stata\, we assume you are already users of these software and so know the basics.\n\nTimings\nThe course starts and ends each day at 09:15 and 16:00 with a 30-minute morning break and a one-hour break for lunch from 13:00 to 14:00.\n \nFees\n\nFor UK-registered MSc and PhD students – £180\nFor UK university academics\, UK public sector staff\, and staff at UK registered charity organisations – £360\nFor all other participants – £660\n\n\nPlease note\, in order to be eligible for the reduced pricing brackets please submit your application using your UK academic/organisational email address.\n \nCancellation/refunds\nA full refund will be given if cancellation occurs two weeks prior to the event. No refund is given after this date. By completing the application form\, you are accepting these cancellation terms.\n \nApplications\nIf you would like to attend the workshop\, please complete and submit the online booking form (see below). Please note the closing date for applications is 23rd November 2025.\n\nApplications will be processed on a rolling basis\, once a week\, until the application deadline. A link to the University of Bristol’s online shop will be provided and your place on the course will be confirmed upon successful payment.\n\nIf you have any queries\, please email info-cmm@bristol.ac.uk.\n \nGo to booking form >>\n\nTerms and conditions\nPlease click here to read the booking terms and conditions before completing the booking form. Note that it is the participant’s responsibility to ensure that Zoom and their choice of MLwiN\, R\, or Stata software is up-to-date and works on their computer in advance of the course\, as the Centre for Multilevel Modelling is unable to provide technical support.\n\nMLwiN\nMLwiN is dedicated multilevel modelling software developed by our research team for more than 30 years. On this course we will be using the free teaching version of MLwiN. This version works with all the datasets used on the course and a wide range of other teaching datasets which come with the software. We will email you the teaching version prior to the start of the course.\n\nShould you wish to use MLwiN after the course with your own data\, you will need to use the regular version of MLwiN. This is free to UK academics (but without user support) reflecting long periods of funding from the UK’s Economic and Social science Research Council (ESRC). For all other users\, there is a 30-day trial version\, but after that you will have to purchase MLwiN if you wish to continue using it to analyse your own data. There are various price options available. http://www.bristol.ac.uk/cmm/software/mlwin/\n \nMLwiN is Windows software\, but can be run on Mac via the Wine software or through a virtual machine such as Parallels\, depending on the Mac model and version of MacOS on your machine.
URL:https://www.swdtp.ac.uk/event-calendar/introduction-to-multilevel-modelling-using-mlwin-r-or-stata/
LOCATION:Zoom
CATEGORIES:Higher Level Training,Training
END:VEVENT
BEGIN:VEVENT
DTSTART;TZID=Europe/London:20260113T091500
DTEND;TZID=Europe/London:20260115T160000
DTSTAMP:20260421T230253
CREATED:20251017T114807Z
LAST-MODIFIED:20251017T114807Z
UID:10000553-1768295700-1768492800@www.swdtp.ac.uk
SUMMARY:Introduction to Multilevel Modelling\, Using MLwiN\, R\, or Stata
DESCRIPTION:Introduction to Multilevel Modelling\, Using MLwiN\, R\, or Stata  \n13-15 January 2026\, Online via Zoom \nClosing date for applications is 23rd November 2025. \nThis workshop is run by the University of Bristol School of Education. Further information and the booking form can be found at the following link: \nhttp://www.bris.ac.uk/cmm/software/support/workshops/
URL:https://www.swdtp.ac.uk/event-calendar/introduction-to-multilevel-modelling-using-mlwin-r-or-stata-2/
LOCATION:Online
CATEGORIES:Higher Level Training
END:VEVENT
BEGIN:VEVENT
DTSTART;TZID=Europe/London:20260120T130000
DTEND;TZID=Europe/London:20260120T140000
DTSTAMP:20260421T230253
CREATED:20251104T151112Z
LAST-MODIFIED:20260113T142409Z
UID:10000556-1768914000-1768917600@www.swdtp.ac.uk
SUMMARY:What is Research Data? Practical Guidance on Organising and Sharing your Files and Findings
DESCRIPTION:Every research project generates data. It’s the material that you gather\, create\, or interpret to answer your research questions; whether that is numbers\, images\, recordings\, or documents. Good research data management and sharing are essential for making your work accessible\, your methods transparent\, and your findings easy to use and build upon. Funders\, publishers\, and universities require researchers to share and cite their research data – but what does this look like in practice? This webinar offers practical tips and guidance to organise\, store and share your documents and results effectively throughout your project. This session covers: \n\nWhat is research data and why it matters\nThe expectations of funders\, publishers\, and universities for research data storage and sharing\nHow to organise and describe your files so you can easily find and understand your research data throughout your project\nHow to ethically share research data when working with human participants\nHow to find a suitable research data repository for your work\nWhat support is available beyond your supervisory team\n\nThe speaker for this session is Dr Jade Godsall who is an Assistant Research Support Librarian in Research Data Management and Digital Scholarship at The University of Bristol. \nThis session is part of the SWDTP Data Analysis Webinar Series. Visit the following link for further information and registration: https://www.tickettailor.com/events/swdtp/1956811
URL:https://www.swdtp.ac.uk/event-calendar/what-is-research-data-practical-guidance-on-organising-and-sharing-your-files-and-findings/
CATEGORIES:Higher Level Training,Training,Webinar/Seminar/Symposium
END:VEVENT
BEGIN:VEVENT
DTSTART;TZID=Europe/London:20260122T130000
DTEND;TZID=Europe/London:20260122T140000
DTSTAMP:20260421T230253
CREATED:20251205T142213Z
LAST-MODIFIED:20260113T142404Z
UID:10000561-1769086800-1769090400@www.swdtp.ac.uk
SUMMARY:Analysing large-scale assessment data
DESCRIPTION:Issues with using police data to investigate offending: A research perspective\nDr Ioana Crivatu\, Research Fellow at the University of Birmingham\nDr Ruth Spence\, Senior Research Fellow at Middlesex University \nPolice data is an important source of information for researchers about investigations\, suspects\, and victims. However\, crime records can be problematic to work with. Here we outline three key issues along with our approach in combining and quantitatively analysing police data from several police forces in England and Wales which used different crime recording systems. We discuss data quality\, which reflects missing and misclassified values; inconsistency\, which refers to the vague and at times different definitions provided; and granularity\, which reflects the lack of detailed information included in the datasets. We recommend developing a robust strategy for working with missing data\, triangulating across different sources\, creating higher-order categories where necessary\, and creating a detailed data governance plan before analysis begins. \nLink to published paper: https://journals.sagepub.com/doi/full/10.1177/0032258X251313944 \n  \nPreparation of a Large-scale Assessment in Education and its use in a Quantitative Intersectional analysis in R\nDr Natalia López-Hornickel\, Postdoctoral Research Associate at Roehampton University; SWDTP alumni\nIn this presentation\, first\, I aim to show the considerations and challenges of preparing large-scale assessment data\, using the International Civic and Citizenship Education Study (ICCS) from 2016. This includes the sources of the data and the merging process\, which is usually an overlooked but crucial step before proceeding with the analysis. Second\, I will refer to the analysis steps to obtain descriptives and models. Particularly\, I will use the case of the Multilevel Analysis of Individual Heterogeneity and Discriminatory Accuracy (MAIHDA) to develop an intersectional analysis of students’ endorsement of the gender equality scale (Fifth paper of my thesis). This technique is a parsimonious alternative to multiplicative terms in regressions. \nAll the explanations will be conceptual and also accompanied by a description of some R syntax. \nThis session is part of the SWDTP Data Analysis Webinar Series. Visit the following link for further information and registration: https://www.tickettailor.com/events/swdtp/1956811
URL:https://www.swdtp.ac.uk/event-calendar/analysing-large-scale-assessment-data/
CATEGORIES:Higher Level Training,Training,Webinar/Seminar/Symposium
END:VEVENT
BEGIN:VEVENT
DTSTART;TZID=Europe/London:20260127T103000
DTEND;TZID=Europe/London:20260127T120000
DTSTAMP:20260421T230253
CREATED:20250930T145717Z
LAST-MODIFIED:20250930T145804Z
UID:10000552-1769509800-1769515200@www.swdtp.ac.uk
SUMMARY:Philosophy of Social Science
DESCRIPTION:This talk will draw upon Alexander Betts’ recent book Social Science: A Very Short Introduction to offer a contemporary take on the philosophy of social science. It will focus in particular on the underpinnings of interdisciplinary social science\, arguing that across disciplines\, the social sciences have more in common than that which divides them.  \nWhere: Hybrid | GUDTP Hub \nWhen: 27.01.2026|10:30-12:00 \nAdvert & Registration: https://granduniondtp.web.ox.ac.uk/event/philospophy-of-social-science \nThis event is not organised by the SWDTP. Please direct enquiries to the Grand Union DTP: paula.sheppard@anthro.ox.ac.uk
URL:https://www.swdtp.ac.uk/event-calendar/philosophy-of-social-science/
LOCATION:Online
CATEGORIES:Higher Level Training,Webinar/Seminar/Symposium
END:VEVENT
END:VCALENDAR