BEGIN:VCALENDAR
VERSION:2.0
PRODID:-//SWDTP - ECPv6.15.16.1//NONSGML v1.0//EN
CALSCALE:GREGORIAN
METHOD:PUBLISH
X-ORIGINAL-URL:https://www.swdtp.ac.uk
X-WR-CALDESC:Events for SWDTP
REFRESH-INTERVAL;VALUE=DURATION:PT1H
X-Robots-Tag:noindex
X-PUBLISHED-TTL:PT1H
BEGIN:VTIMEZONE
TZID:Europe/London
BEGIN:DAYLIGHT
TZOFFSETFROM:+0000
TZOFFSETTO:+0100
TZNAME:BST
DTSTART:20240331T010000
END:DAYLIGHT
BEGIN:STANDARD
TZOFFSETFROM:+0100
TZOFFSETTO:+0000
TZNAME:GMT
DTSTART:20241027T010000
END:STANDARD
BEGIN:DAYLIGHT
TZOFFSETFROM:+0000
TZOFFSETTO:+0100
TZNAME:BST
DTSTART:20250330T010000
END:DAYLIGHT
BEGIN:STANDARD
TZOFFSETFROM:+0100
TZOFFSETTO:+0000
TZNAME:GMT
DTSTART:20251026T010000
END:STANDARD
BEGIN:DAYLIGHT
TZOFFSETFROM:+0000
TZOFFSETTO:+0100
TZNAME:BST
DTSTART:20260329T010000
END:DAYLIGHT
BEGIN:STANDARD
TZOFFSETFROM:+0100
TZOFFSETTO:+0000
TZNAME:GMT
DTSTART:20261025T010000
END:STANDARD
END:VTIMEZONE
BEGIN:VEVENT
DTSTART;TZID=Europe/London:20251210T100000
DTEND;TZID=Europe/London:20251211T160000
DTSTAMP:20260423T083048
CREATED:20250930T145538Z
LAST-MODIFIED:20250930T145538Z
UID:10000551-1765360800-1765468800@www.swdtp.ac.uk
SUMMARY:From Theory to Practice: Participatory Methods for Doctoral Students
DESCRIPTION:Are you interested in making your research more inclusive\, impactful\, and grounded in lived experience? This two-day interactive workshop delivered by Dr Ben Scher\, introduces doctoral students to the theory and practice of participatory research methods. \nWhere: In-person |6 Worcester St\, Oxford OX1 2BX \nWhen: 10.12.2025 & 11.12.2025|10:00-16:00 \nAdvert & Registration:  https://granduniondtp.web.ox.ac.uk/event/from-theory-to-practice-participatory-methods-for-doctoral-students-2  \nThis event is not organised by the SWDTP. Please direct enquiries to the Grand Union DTP: paula.sheppard@anthro.ox.ac.uk
URL:https://www.swdtp.ac.uk/event-calendar/from-theory-to-practice-participatory-methods-for-doctoral-students-2/
LOCATION:6 Worcester St\, Oxford OX1 2BX
CATEGORIES:Higher Level Training,Training,Webinar/Seminar/Symposium
END:VEVENT
END:VCALENDAR