BEGIN:VCALENDAR
VERSION:2.0
PRODID:-//SWDTP - ECPv6.15.16.1//NONSGML v1.0//EN
CALSCALE:GREGORIAN
METHOD:PUBLISH
X-ORIGINAL-URL:https://www.swdtp.ac.uk
X-WR-CALDESC:Events for SWDTP
REFRESH-INTERVAL;VALUE=DURATION:PT1H
X-Robots-Tag:noindex
X-PUBLISHED-TTL:PT1H
BEGIN:VTIMEZONE
TZID:Europe/London
BEGIN:DAYLIGHT
TZOFFSETFROM:+0000
TZOFFSETTO:+0100
TZNAME:BST
DTSTART:20250330T010000
END:DAYLIGHT
BEGIN:STANDARD
TZOFFSETFROM:+0100
TZOFFSETTO:+0000
TZNAME:GMT
DTSTART:20251026T010000
END:STANDARD
BEGIN:DAYLIGHT
TZOFFSETFROM:+0000
TZOFFSETTO:+0100
TZNAME:BST
DTSTART:20260329T010000
END:DAYLIGHT
BEGIN:STANDARD
TZOFFSETFROM:+0100
TZOFFSETTO:+0000
TZNAME:GMT
DTSTART:20261025T010000
END:STANDARD
BEGIN:DAYLIGHT
TZOFFSETFROM:+0000
TZOFFSETTO:+0100
TZNAME:BST
DTSTART:20270328T010000
END:DAYLIGHT
BEGIN:STANDARD
TZOFFSETFROM:+0100
TZOFFSETTO:+0000
TZNAME:GMT
DTSTART:20271031T010000
END:STANDARD
END:VTIMEZONE
BEGIN:VEVENT
DTSTART;TZID=Europe/London:20260430T130000
DTEND;TZID=Europe/London:20260430T140000
DTSTAMP:20260421T193612
CREATED:20251205T143426Z
LAST-MODIFIED:20260113T142324Z
UID:10000569-1777554000-1777557600@www.swdtp.ac.uk
SUMMARY:Handling data in decolonial research
DESCRIPTION:The Messy Realities of Anticolonial Research: Reimagining Language Practices in Secondary Education in Nigeria\nMercy Martins\, PhD researcher in Education at the University of Bath \nMy research explores how language practices in Nigerian secondary schools can be reimagined using anticolonial concepts of agency and resistance. The research design was indigenous\, weaving qualitative\, creative\, and participatory methods that were flexible and aligned with the daily experiences of my collaborators. Structured in two phases\, the first focused on the voices of marginalised students\, while the second included teachers\, parents\, school management\, and leadership. \nAfter securing ethics approval\, I conducted a small online pilot with local collaborators which informed my choice of a school with linguistic\, ethnic\, and religious parity. I prioritised depth in one all-male secondary school rather than breadth across two schools due to time constraints. Almost five months of fieldwork produced extensive data. To preserve Nigerian Pidgin and avoid rough translations\, I transcribed and cleaned the data manually. Journalling and a participatory analysis session\, where students directly engaged with the research questions\, guided the analysis. \nWhile I set aside some methods (such as Theatre of the Oppressed and parent interviews) for future work\, I sought to include multiple perspectives\, centre participant voices\, and clearly distinguish between their ideas and mine. Ethical tensions included deciding what to share\, avoiding reductive categorisation\, and ensuring authenticity. \n  \nStorytelling\, Embodiment\, and the Ethics of Analysing Bedouin Ethnography\nWesam Wekhyan\, PhD researcher in Social Policy at the University of Bath \nMy PhD research explores Bedouin identity\, knowledge\, and community praxis in central Jordan through a decolonial\, feminist ethnographic approach. The dataset is multi-modal: focus groups\, one-to-one interviews\, oral histories\, WhatsApp notes\, photos\, videos\, fieldnotes\, memos\, and observations of ceremonies and everyday life (weddings\, funerals\, dinners\, walkabouts). Much of this material was produced in a Bedouin dialect and a culture where history is preserved orally rather than textually\, requiring translation across dialect\, Arabic\, and English\, as well as from embodied\, performative expression into written form. Virtual data (voice notes\, chats\, images) extended this storytelling into digital space. \nWriting was not separate from analysis\, but a continuation of storytelling: through memos\, vignettes\, and embodied descriptions I traced how narratives lived\, moved\, and transformed across settings and generation. Analysing such material meant making decisions about segmentation and representation without erasing relational meaning. Ethical and personal challenges were constant: anonymity in small communities\, safeguarding oral/visual data sovereignty\, and navigating my insider–outsider position and the embodied emotional labour of researching from within. \nThis session is part of the SWDTP Data Analysis Webinar Series. Visit the following link for further information and registration: https://www.tickettailor.com/events/swdtp/1956811
URL:https://www.swdtp.ac.uk/event-calendar/handling-data-in-decolonial-research/
CATEGORIES:Higher Level Training,Training,Webinar/Seminar/Symposium
END:VEVENT
END:VCALENDAR